BEGIN:VCALENDAR
VERSION:2.0
PRODID:-//Tukios.com/
BEGIN:VEVENT
UID:39d402e5-cc94-4b1e-93b7-18113cf12d0a@www.lafayettefh.com
DTSTAMP:20260421T190657Z
DTSTART:20260425T180000Z
DTEND:20260425T190000Z
SUMMARY:Funeral Service
DESCRIPTION:
URL:https://www.lafayettefh.com/obituaries/michelle-barbato
LOCATION:Lafayette Funeral Home 6651 Raeford Rd  Fayetteville NC 28304
GEO:35.0386843;-78.9995375
END:VEVENT
END:VCALENDAR