BEGIN:VCALENDAR
VERSION:2.0
PRODID:-//Tukios.com/
BEGIN:VEVENT
UID:08f2a7b0-938b-468d-b0b3-44bad863dabd@www.lafayettefh.com
DTSTAMP:20260421T190841Z
DTSTART:20260425T160000Z
DTEND:20260425T180000Z
SUMMARY:Visitation
DESCRIPTION:
URL:https://www.lafayettefh.com/obituaries/michelle-barbato
LOCATION:Lafayette Funeral Home 6651 Raeford Rd  Fayetteville NC 28304
GEO:35.0386843;-78.9995375
END:VEVENT
END:VCALENDAR