BEGIN:VCALENDAR
VERSION:2.0
PRODID:-//Tukios.com/
BEGIN:VEVENT
UID:4ca64ea4-c99a-4b28-8a15-ed3a9e2a6c19@www.lafayettefh.com
DTSTAMP:20260420T170515Z
DTSTART:20260422T200000Z
DTEND:20260422T210000Z
SUMMARY:Burial
DESCRIPTION:
URL:https://www.lafayettefh.com/obituaries/matthew-matt-thompkins
LOCATION:  West Central Avenue  Raeford NC 28376
GEO:34.9786943;-79.2314288
END:VEVENT
END:VCALENDAR