BEGIN:VCALENDAR
VERSION:2.0
PRODID:-//Tukios.com/
BEGIN:VEVENT
UID:1d6664e2-fb72-456a-afd2-44c55f8f16e2@www.lafayettefh.com
DTSTAMP:20260420T170515Z
DTSTART:20260422T180000Z
DTEND:20260422T190000Z
SUMMARY:Funeral Service
DESCRIPTION:
URL:https://www.lafayettefh.com/obituaries/matthew-matt-thompkins
LOCATION:Tabernacle Baptist Church 1695 E. Hardin Road  Lumberton NC 
	28358
GEO:34.6267852;-78.975504
END:VEVENT
END:VCALENDAR