BEGIN:VCALENDAR
VERSION:2.0
PRODID:-//Tukios.com/
BEGIN:VEVENT
UID:0624ad47-fd7a-4582-976c-f2585d3584ff@www.lafayettefh.com
DTSTAMP:20260420T170346Z
DTSTART:20260421T220000Z
DTEND:20260422T000000Z
SUMMARY:Visitation
DESCRIPTION:
URL:https://www.lafayettefh.com/obituaries/matthew-matt-thompkins
LOCATION:Tabernacle Baptist Church 1695 E. Hardin Road  Lumberton NC 
	28358
GEO:34.6267852;-78.975504
END:VEVENT
END:VCALENDAR