BEGIN:VCALENDAR
VERSION:2.0
PRODID:-//Tukios.com/
BEGIN:VEVENT
UID:7cfd3120-6a81-4fac-90cb-1f74f53ed2a4@www.lafayettefh.com
DTSTAMP:20260423T011541Z
DTSTART:20260425T170000Z
DTEND:20260425T180000Z
SUMMARY:Funeral Service
DESCRIPTION:
URL:https://www.lafayettefh.com/obituaries/duey-butler-jr
LOCATION: 7467 Camden Road  Fayetteville NC 28306
GEO:34.9703899;-79.016366
END:VEVENT
END:VCALENDAR